BEGIN:VCALENDAR
PRODID:-//http://statistik.d-u-v.org//PHP ultracalendar//EN
VERSION:2.0
METHOD:PUBLISH
BEGIN:VEVENT
DTSTAMP:20260424T190225
CREATED:20210616T162514
UID:1777057345.0.39238400-78015@statistik.d-u-v.org
SUMMARY:SIMING Mountain Trail Running
DESCRIPTION: SIMING Mountain Trail Running\n
  \n
  
DTSTART:20201129T070000
DTEND:00000000T235900
LOCATION:Ningbo City\, CHN
URL:https://iranshao.com/races/10045
CATEGORIES:Ultramarathon
CONTACT:
CLASS:PUBLIC
PRIORITY:5
TRANSP:OPAQUE
END:VEVENT
END:VCALENDAR
