BEGIN:VCALENDAR
PRODID:-//http://statistik.d-u-v.org//PHP ultracalendar//EN
VERSION:2.0
METHOD:PUBLISH
BEGIN:VEVENT
DTSTAMP:20260419T192124
CREATED:20210615T140815
UID:1776626484.0.88368800-77995@statistik.d-u-v.org
SUMMARY:Popple Shoot Trail Races
DESCRIPTION: Popple Shoot Trail Races\n
  \n
  dan.sears[at]gmail.com; tyler.j.sears[at]gmail.com
DTSTART:20210508T060000
DTEND:00000000T235900
LOCATION:Minong, WI\, USA
URL:https://www.facebook.com/Poppleshoottrailraces/
CATEGORIES:Ultramarathon
CONTACT:
CLASS:PUBLIC
PRIORITY:5
TRANSP:OPAQUE
END:VEVENT
END:VCALENDAR
