BEGIN:VCALENDAR
PRODID:-//http://statistik.d-u-v.org//PHP ultracalendar//EN
VERSION:2.0
METHOD:PUBLISH
BEGIN:VEVENT
DTSTAMP:20260422T195131
CREATED:20210614T173303
UID:1776887491.0.25264900-77971@statistik.d-u-v.org
SUMMARY:Irrational S.O.U.T.H. 200 Miler
DESCRIPTION: Irrational S.O.U.T.H. 200 Miler\n
  Shaun Kaesler\n
  shaun[at]ultraserieswa.com.au
DTSTART:20220406T070000
DTEND:20220410T100000
LOCATION:Murray Bridge, SA\, AUS
URL:http://irrationalsouth200miler.com.au/
CATEGORIES:Ultramarathon
CONTACT:Shaun Kaesler
CLASS:PUBLIC
PRIORITY:5
TRANSP:OPAQUE
END:VEVENT
END:VCALENDAR
