BEGIN:VCALENDAR
PRODID:-//http://statistik.d-u-v.org//PHP ultracalendar//EN
VERSION:2.0
METHOD:PUBLISH
BEGIN:VEVENT
DTSTAMP:20260423T012323
CREATED:20210612T214003
UID:1776907403.0.22236000-77924@statistik.d-u-v.org
SUMMARY:NEA-AAU 50-Mile Championship
DESCRIPTION: NEA-AAU 50-Mile Championship\n
  \n
  
DTSTART:19771008T000000
DTEND:00000000T235900
LOCATION:Cambridge, MA\, USA
URL:
CATEGORIES:Ultramarathon
CONTACT:
CLASS:PUBLIC
PRIORITY:5
TRANSP:OPAQUE
END:VEVENT
END:VCALENDAR
