BEGIN:VCALENDAR
PRODID:-//http://statistik.d-u-v.org//PHP ultracalendar//EN
VERSION:2.0
METHOD:PUBLISH
BEGIN:VEVENT
DTSTAMP:20260423T011125
CREATED:20210602T000719
UID:1776906685.0.27983300-77757@statistik.d-u-v.org
SUMMARY:Big Dog's Backyard Ultra - World Team Championships
DESCRIPTION: Big Dog's Backyard Ultra - World Team Championships\n
  \n
  
DTSTART:20211016T070000
DTEND:20211019T200000
LOCATION:Bell Buckle, TN\, USA
URL:https://ultrasignup.com/register.aspx?did=80607
CATEGORIES:Ultramarathon
CONTACT:
CLASS:PUBLIC
PRIORITY:5
TRANSP:OPAQUE
END:VEVENT
END:VCALENDAR
