BEGIN:VCALENDAR
PRODID:-//http://statistik.d-u-v.org//PHP ultracalendar//EN
VERSION:2.0
METHOD:PUBLISH
BEGIN:VEVENT
DTSTAMP:20260425T175741
CREATED:20210601T162048
UID:1777139861.0.14848500-77752@statistik.d-u-v.org
SUMMARY:Trans Laoshan Trailrunning Race - 100 km
DESCRIPTION: Trans Laoshan Trailrunning Race - 100 km\n
  \n
  
DTSTART:20201017T070000
DTEND:20201018T120000
LOCATION:Nanjing City\, CHN
URL:https://itra.run/race/21717-trans-laoshan-trailrunning-race-2020-50k&2020
CATEGORIES:Ultramarathon
CONTACT:
CLASS:PUBLIC
PRIORITY:5
TRANSP:OPAQUE
END:VEVENT
END:VCALENDAR
