BEGIN:VCALENDAR
PRODID:-//http://statistik.d-u-v.org//PHP ultracalendar//EN
VERSION:2.0
METHOD:PUBLISH
BEGIN:VEVENT
DTSTAMP:20260423T012141
CREATED:20210527T010403
UID:1776907301.0.78742200-77612@statistik.d-u-v.org
SUMMARY:Tromsø Skyrace
DESCRIPTION: Tromsø Skyrace\n
  \n
  
DTSTART:20210807T080000
DTEND:00000000T235900
LOCATION:Tromsø\, NOR
URL:http://tromsoskyrace.com/
CATEGORIES:Ultramarathon
CONTACT:
CLASS:PUBLIC
PRIORITY:5
TRANSP:OPAQUE
END:VEVENT
END:VCALENDAR
