BEGIN:VCALENDAR
PRODID:-//http://statistik.d-u-v.org//PHP ultracalendar//EN
VERSION:2.0
METHOD:PUBLISH
BEGIN:VEVENT
DTSTAMP:20260426T004830
CREATED:20210517T032430
UID:1777164510.0.84731800-77410@statistik.d-u-v.org
SUMMARY:Perpetual Motion 12 Hour Race
DESCRIPTION: Perpetual Motion 12 Hour Race\n
  \n
  kay.wrathracing[at]yahoo.com
DTSTART:20211204T090000
DTEND:00000000T235900
LOCATION:Grapevine, TX\, USA
URL:https://runsignup.com/Race/TX/Grapevine/PerpetualMotion
CATEGORIES:Ultramarathon
CONTACT:
CLASS:PUBLIC
PRIORITY:5
TRANSP:OPAQUE
END:VEVENT
END:VCALENDAR
