BEGIN:VCALENDAR
PRODID:-//http://statistik.d-u-v.org//PHP ultracalendar//EN
VERSION:2.0
METHOD:PUBLISH
BEGIN:VEVENT
DTSTAMP:20260423T050504
CREATED:20100327T070956
UID:1776920704.0.36954400-7738@statistik.d-u-v.org
SUMMARY:SMUT 50 Mile Run
DESCRIPTION: SMUT 50 Mile Run\n
  Keith Knipling, Race Director\n
  
DTSTART:20101016T070000
DTEND:00000000T235900
LOCATION:Luray, VA\, USA
URL:http://www.vhtrc.org/events/smut.htm
CATEGORIES:Ultramarathon
CONTACT:Keith Knipling, Race Director
CLASS:PUBLIC
PRIORITY:5
TRANSP:OPAQUE
END:VEVENT
END:VCALENDAR
