BEGIN:VCALENDAR
PRODID:-//http://statistik.d-u-v.org//PHP ultracalendar//EN
VERSION:2.0
METHOD:PUBLISH
BEGIN:VEVENT
DTSTAMP:20260423T023934
CREATED:20210511T121209
UID:1776911974.0.33219900-77264@statistik.d-u-v.org
SUMMARY:Potawatomi 100 Mile Trail Run
DESCRIPTION: Potawatomi 100 Mile Trail Run\n
  Rich and Eric Skocaj\n
  rskocaj[at]gmail.com
DTSTART:20210408T060000
DTEND:20210411T235900
LOCATION:Pekin, IL\, USA
URL:http://www.potawatomitrailruns.com/
CATEGORIES:Ultramarathon
CONTACT:Rich and Eric Skocaj
CLASS:PUBLIC
PRIORITY:5
TRANSP:OPAQUE
END:VEVENT
END:VCALENDAR
