BEGIN:VCALENDAR
PRODID:-//http://statistik.d-u-v.org//PHP ultracalendar//EN
VERSION:2.0
METHOD:PUBLISH
BEGIN:VEVENT
DTSTAMP:20260423T100330
CREATED:20100907T162508
UID:1776938610.0.19360700-7726@statistik.d-u-v.org
SUMMARY:Badgerland F/X 6 Hour Run (day)
DESCRIPTION: Badgerland F/X 6 Hour Run (day)\n
  Marty Malin\n
  4runners[at]merr.com
DTSTART:20100904T000000
DTEND:00000000T235900
LOCATION:Germantown, WI\, USA
URL:http://www.badgerlandstriders.org/
CATEGORIES:Ultramarathon
CONTACT:Marty Malin
CLASS:PUBLIC
PRIORITY:5
TRANSP:OPAQUE
END:VEVENT
END:VCALENDAR
