BEGIN:VCALENDAR
PRODID:-//http://statistik.d-u-v.org//PHP ultracalendar//EN
VERSION:2.0
METHOD:PUBLISH
BEGIN:VEVENT
DTSTAMP:20260424T175836
CREATED:20210508T071519
UID:1777053516.0.98326500-77142@statistik.d-u-v.org
SUMMARY:Westward Forester Ultra Run
DESCRIPTION: Westward Forester Ultra Run\n
  \n
  
DTSTART:20210612T050000
DTEND:00000000T235900
LOCATION:Beipu Township\, TPE
URL:https://www.ibodygo.com.tw/EventTopic.aspx?n=1200
CATEGORIES:Ultramarathon
CONTACT:
CLASS:PUBLIC
PRIORITY:5
TRANSP:OPAQUE
END:VEVENT
END:VCALENDAR
