BEGIN:VCALENDAR
PRODID:-//http://statistik.d-u-v.org//PHP ultracalendar//EN
VERSION:2.0
METHOD:PUBLISH
BEGIN:VEVENT
DTSTAMP:20260423T062747
CREATED:20100903T144051
UID:1776925667.0.88518600-7709@statistik.d-u-v.org
SUMMARY:TorTour de Ruhr - 100km Nonstop
DESCRIPTION: TorTour de Ruhr - 100km Nonstop\n
  Jens Vieler\n
  jens[at]tortourderuhr.de
DTSTART:20120527T000000
DTEND:00000000T235900
LOCATION:Hagen\, GER
URL:http://www.tortourderuhr.de/
CATEGORIES:Ultramarathon
CONTACT:Jens Vieler
CLASS:PUBLIC
PRIORITY:5
TRANSP:OPAQUE
END:VEVENT
END:VCALENDAR
