BEGIN:VCALENDAR
PRODID:-//http://statistik.d-u-v.org//PHP ultracalendar//EN
VERSION:2.0
METHOD:PUBLISH
BEGIN:VEVENT
DTSTAMP:20260422T061828
CREATED:20210505T160802
UID:1776838708.0.41646200-77089@statistik.d-u-v.org
SUMMARY:Roche Abbey Trail Running Festival Ultra
DESCRIPTION: Roche Abbey Trail Running Festival Ultra\n
  Catherine Hirst\n
  info[at]itsgrimupnorthrunning.co.uk
DTSTART:20210516T100000
DTEND:00000000T235900
LOCATION:Sheffield\, GBR
URL:https://bookings.itsgrimupnorthrunning.co.uk/book/205
CATEGORIES:Ultramarathon
CONTACT:Catherine Hirst
CLASS:PUBLIC
PRIORITY:5
TRANSP:OPAQUE
END:VEVENT
END:VCALENDAR
