BEGIN:VCALENDAR
PRODID:-//http://statistik.d-u-v.org//PHP ultracalendar//EN
VERSION:2.0
METHOD:PUBLISH
BEGIN:VEVENT
DTSTAMP:20260419T164605
CREATED:20210505T145319
UID:1776617165.0.62529700-77078@statistik.d-u-v.org
SUMMARY:Ronde van Aruba
DESCRIPTION: Ronde van Aruba\n
  \n
  sportmsksav[at]hotmail.com
DTSTART:20170519T000000
DTEND:20170519T235900
LOCATION:Aruba\, ARU
URL:http://www.runaruba.cjb.net/
CATEGORIES:Ultramarathon
CONTACT:
CLASS:PUBLIC
PRIORITY:5
TRANSP:OPAQUE
END:VEVENT
END:VCALENDAR
