BEGIN:VCALENDAR
PRODID:-//http://statistik.d-u-v.org//PHP ultracalendar//EN
VERSION:2.0
METHOD:PUBLISH
BEGIN:VEVENT
DTSTAMP:20260424T225348
CREATED:20210504T023604
UID:1777071228.0.09445200-77049@statistik.d-u-v.org
SUMMARY:Korea Adventure Race
DESCRIPTION: Korea Adventure Race\n
  \n
  mmmarathon[at]hanmail.net
DTSTART:20130824T200000
DTEND:20130825T040000
LOCATION:Seoul City\, KOR
URL:http://www.roadrun.co.kr/schedule/view.php?no=4906
CATEGORIES:Ultramarathon
CONTACT:
CLASS:PUBLIC
PRIORITY:5
TRANSP:OPAQUE
END:VEVENT
END:VCALENDAR
