BEGIN:VCALENDAR
PRODID:-//http://statistik.d-u-v.org//PHP ultracalendar//EN
VERSION:2.0
METHOD:PUBLISH
BEGIN:VEVENT
DTSTAMP:20260422T134024
CREATED:20210430T165655
UID:1776865224.0.24100900-76957@statistik.d-u-v.org
SUMMARY:Silvesterlauf 24h Wien
DESCRIPTION: Silvesterlauf 24h Wien\n
  \n
  
DTSTART:20061230T000000
DTEND:20061231T235900
LOCATION:Wien\, AUT
URL:
CATEGORIES:Ultramarathon
CONTACT:
CLASS:PUBLIC
PRIORITY:5
TRANSP:OPAQUE
END:VEVENT
END:VCALENDAR
