BEGIN:VCALENDAR
PRODID:-//http://statistik.d-u-v.org//PHP ultracalendar//EN
VERSION:2.0
METHOD:PUBLISH
BEGIN:VEVENT
DTSTAMP:20260423T031350
CREATED:20210426T161934
UID:1776914030.0.36661000-76918@statistik.d-u-v.org
SUMMARY:Alpine Challenge 100 miles
DESCRIPTION: Alpine Challenge 100 miles\n
  Paul Ashton\n
  paul[at]runningwild.net.au
DTSTART:20210417T023000
DTEND:20210418T223000
LOCATION:Falls Creek, VIC\, AUS
URL:http://www.runningwild.net.au/alpine-runs/alpine-challenge.html
CATEGORIES:Ultramarathon
CONTACT:Paul Ashton
CLASS:PUBLIC
PRIORITY:5
TRANSP:OPAQUE
END:VEVENT
END:VCALENDAR
