BEGIN:VCALENDAR
PRODID:-//http://statistik.d-u-v.org//PHP ultracalendar//EN
VERSION:2.0
METHOD:PUBLISH
BEGIN:VEVENT
DTSTAMP:20260419T171511
CREATED:20210423T010919
UID:1776618911.0.27126900-76855@statistik.d-u-v.org
SUMMARY:Self-Transcendence 6h-Lauf Vinnitsa
DESCRIPTION: Self-Transcendence 6h-Lauf Vinnitsa\n
  Igor Mubrik\n
  info[at]races.org.ua;vinnitsa[at]races.org.ua
DTSTART:20210717T120000
DTEND:00000000T235900
LOCATION:Vinnitsa\, UKR
URL:http://www.races.org.ua
CATEGORIES:Ultramarathon
CONTACT:Igor Mubrik
CLASS:PUBLIC
PRIORITY:5
TRANSP:OPAQUE
END:VEVENT
END:VCALENDAR
