BEGIN:VCALENDAR
PRODID:-//http://statistik.d-u-v.org//PHP ultracalendar//EN
VERSION:2.0
METHOD:PUBLISH
BEGIN:VEVENT
DTSTAMP:20260419T164602
CREATED:20210422T111513
UID:1776617162.0.58721400-76847@statistik.d-u-v.org
SUMMARY:Short Circuit Ultra
DESCRIPTION: Short Circuit Ultra\n
  Ryk Downes\n
  admin[at]punkpanther.co.uk
DTSTART:20211113T060000
DTEND:00000000T235900
LOCATION:Otley\, GBR
URL:http://punkpanther.co.uk/short-circuit/
CATEGORIES:Ultramarathon
CONTACT:Ryk Downes
CLASS:PUBLIC
PRIORITY:5
TRANSP:OPAQUE
END:VEVENT
END:VCALENDAR
