BEGIN:VCALENDAR
PRODID:-//http://statistik.d-u-v.org//PHP ultracalendar//EN
VERSION:2.0
METHOD:PUBLISH
BEGIN:VEVENT
DTSTAMP:20260423T085507
CREATED:20210419T181001
UID:1776934507.0.08249000-76739@statistik.d-u-v.org
SUMMARY:Kokkola Ultra Run 12h
DESCRIPTION: Kokkola Ultra Run 12h\n
  Fredrik Olaussen\n
  info[at]kokkolaultrarun.fi
DTSTART:20210814T120000
DTEND:00000000T235900
LOCATION:Kokkola\, FIN
URL:http://www.kokkolaultrarun.fi
CATEGORIES:Ultramarathon
CONTACT:Fredrik Olaussen
CLASS:PUBLIC
PRIORITY:5
TRANSP:OPAQUE
END:VEVENT
END:VCALENDAR
