BEGIN:VCALENDAR
PRODID:-//http://statistik.d-u-v.org//PHP ultracalendar//EN
VERSION:2.0
METHOD:PUBLISH
BEGIN:VEVENT
DTSTAMP:20260425T170432
CREATED:20210416T093148
UID:1777136672.0.30057700-76671@statistik.d-u-v.org
SUMMARY:Panorama trail run
DESCRIPTION: Panorama trail run\n
  \n
  
DTSTART:20050813T060000
DTEND:20050817T120000
LOCATION:Osaka Prefecture\, JPN
URL:http://japan100mile.com/repo-to/panorama/index.html
CATEGORIES:Ultramarathon
CONTACT:
CLASS:PUBLIC
PRIORITY:5
TRANSP:OPAQUE
END:VEVENT
END:VCALENDAR
