BEGIN:VCALENDAR
PRODID:-//http://statistik.d-u-v.org//PHP ultracalendar//EN
VERSION:2.0
METHOD:PUBLISH
BEGIN:VEVENT
DTSTAMP:20260426T033536
CREATED:20210414T191704
UID:1777174536.0.15320700-76651@statistik.d-u-v.org
SUMMARY:6 Days UMF Summer Ed. 24 hours
DESCRIPTION: 6 Days UMF Summer Ed. 24 hours\n
  Pasquale Brandi\n
  pasqual.brandi[at]tiscali.it
DTSTART:20211001T150000
DTEND:20211002T150000
LOCATION:Policoro (MT)\, ITA
URL:https://www.6giornidelpantano.com/
CATEGORIES:Ultramarathon
CONTACT:Pasquale Brandi
CLASS:PUBLIC
PRIORITY:5
TRANSP:OPAQUE
END:VEVENT
END:VCALENDAR
