BEGIN:VCALENDAR
PRODID:-//http://statistik.d-u-v.org//PHP ultracalendar//EN
VERSION:2.0
METHOD:PUBLISH
BEGIN:VEVENT
DTSTAMP:20260422T231435
CREATED:20210413T093741
UID:1776899675.0.18566800-76627@statistik.d-u-v.org
SUMMARY:Donkey Drop Out
DESCRIPTION: Donkey Drop Out\n
  \n
  racedirector[at]distance.gg
DTSTART:20210807T100000
DTEND:00000000T235900
LOCATION:St. Sampson\, GBR
URL:https://distance.gg
CATEGORIES:Ultramarathon
CONTACT:
CLASS:PUBLIC
PRIORITY:5
TRANSP:OPAQUE
END:VEVENT
END:VCALENDAR
