BEGIN:VCALENDAR
PRODID:-//http://statistik.d-u-v.org//PHP ultracalendar//EN
VERSION:2.0
METHOD:PUBLISH
BEGIN:VEVENT
DTSTAMP:20260423T024012
CREATED:20210406T170739
UID:1776912012.0.49144300-76482@statistik.d-u-v.org
SUMMARY:Sri Chinmoy 24 Stundenlauf Köln - 100 mi Split
DESCRIPTION: Sri Chinmoy 24 Stundenlauf Köln - 100 mi Split\n
  \n
  
DTSTART:19910706T000000
DTEND:19910707T235900
LOCATION:Köln\, GER
URL:
CATEGORIES:Ultramarathon
CONTACT:
CLASS:PUBLIC
PRIORITY:5
TRANSP:OPAQUE
END:VEVENT
END:VCALENDAR
