BEGIN:VCALENDAR
PRODID:-//http://statistik.d-u-v.org//PHP ultracalendar//EN
VERSION:2.0
METHOD:PUBLISH
BEGIN:VEVENT
DTSTAMP:20260419T164609
CREATED:20210406T123858
UID:1776617169.0.93698700-76465@statistik.d-u-v.org
SUMMARY:Georgia Death Race
DESCRIPTION: Georgia Death Race\n
  Race Director Sean Blanton\n
  sean[at]runbumtours.com
DTSTART:20220326T070000
DTEND:20220327T235900
LOCATION:Blairsville, GA\, USA
URL:https://www.runbumtours.com/georgia-death-race-1
CATEGORIES:Ultramarathon
CONTACT:Race Director Sean Blanton
CLASS:PUBLIC
PRIORITY:5
TRANSP:OPAQUE
END:VEVENT
END:VCALENDAR
