BEGIN:VCALENDAR
PRODID:-//http://statistik.d-u-v.org//PHP ultracalendar//EN
VERSION:2.0
METHOD:PUBLISH
BEGIN:VEVENT
DTSTAMP:20260419T185852
CREATED:20210405T162708
UID:1776625132.0.91334800-76443@statistik.d-u-v.org
SUMMARY:100 km des Alpes-Mediterranée
DESCRIPTION: 100 km des Alpes-Mediterranée\n
  \n
  
DTSTART:19900509T060000
DTEND:19900510T235900
LOCATION:Les Pennes Mirabeau\, FRA
URL:
CATEGORIES:Ultramarathon
CONTACT:
CLASS:PUBLIC
PRIORITY:5
TRANSP:OPAQUE
END:VEVENT
END:VCALENDAR
