BEGIN:VCALENDAR
PRODID:-//http://statistik.d-u-v.org//PHP ultracalendar//EN
VERSION:2.0
METHOD:PUBLISH
BEGIN:VEVENT
DTSTAMP:20260419T162901
CREATED:20210403T183735
UID:1776616141.0.28385100-76404@statistik.d-u-v.org
SUMMARY:De 100 mijl van Sint-Annen
DESCRIPTION: De 100 mijl van Sint-Annen\n
  Gerik Mik\n
  gerik[at]runningrunn.nl
DTSTART:20210605T090000
DTEND:20210606T170000
LOCATION:Sint Annen\, NED
URL:https://runningrunn.nl/100mijl/2021/100mijl.php
CATEGORIES:Ultramarathon
CONTACT:Gerik Mik
CLASS:PUBLIC
PRIORITY:5
TRANSP:OPAQUE
END:VEVENT
END:VCALENDAR
