BEGIN:VCALENDAR
PRODID:-//http://statistik.d-u-v.org//PHP ultracalendar//EN
VERSION:2.0
METHOD:PUBLISH
BEGIN:VEVENT
DTSTAMP:20260423T014707
CREATED:20210401T163954
UID:1776908827.0.65054600-76366@statistik.d-u-v.org
SUMMARY:48hr Loutraki Int. Ultramarathon Festival
DESCRIPTION: 48hr Loutraki Int. Ultramarathon Festival\n
  Constantin Baxevanis/John Chortis\n
  baxevanis[at]ciic.gr; chortislodge[at]gmail.com
DTSTART:20210917T170000
DTEND:20210919T170000
LOCATION:Loutraki\, GRE
URL:https://www.dayrunners.gr/
CATEGORIES:Ultramarathon
CONTACT:Constantin Baxevanis/John Chortis
CLASS:PUBLIC
PRIORITY:5
TRANSP:OPAQUE
END:VEVENT
END:VCALENDAR
