BEGIN:VCALENDAR
PRODID:-//http://statistik.d-u-v.org//PHP ultracalendar//EN
VERSION:2.0
METHOD:PUBLISH
BEGIN:VEVENT
DTSTAMP:20260423T003841
CREATED:20210331T030001
UID:1776904721.0.80440200-76350@statistik.d-u-v.org
SUMMARY:24h Bahkauf Lauf
DESCRIPTION: 24h Bahkauf Lauf\n
  Uwe Stoelzer\n
  info[at]bahkauf-lauf.de
DTSTART:20210828T150000
DTEND:20210829T150000
LOCATION:Aachen\, GER
URL:https://runtix.com/sts/10021/2067
CATEGORIES:Ultramarathon
CONTACT:Uwe Stoelzer
CLASS:PUBLIC
PRIORITY:5
TRANSP:OPAQUE
END:VEVENT
END:VCALENDAR
