BEGIN:VCALENDAR
PRODID:-//http://statistik.d-u-v.org//PHP ultracalendar//EN
VERSION:2.0
METHOD:PUBLISH
BEGIN:VEVENT
DTSTAMP:20260419T182047
CREATED:20210323T224304
UID:1776622847.0.26244800-76239@statistik.d-u-v.org
SUMMARY:MiniTMMTR - TransMoravian Masochist Trail Run
DESCRIPTION: MiniTMMTR - TransMoravian Masochist Trail Run\n
  Daniel Orálek\n
  dao[at]anet-brno.cz
DTSTART:20210717T020000
DTEND:20210718T220000
LOCATION:Lomnice\, CZE
URL:https://tmmtr.ultracau.cz/index.php/cz/propozice/50-propozice-2020
CATEGORIES:Ultramarathon
CONTACT:Daniel Orálek
CLASS:PUBLIC
PRIORITY:5
TRANSP:OPAQUE
END:VEVENT
END:VCALENDAR
