BEGIN:VCALENDAR
PRODID:-//http://statistik.d-u-v.org//PHP ultracalendar//EN
VERSION:2.0
METHOD:PUBLISH
BEGIN:VEVENT
DTSTAMP:20260423T022611
CREATED:20210316T133529
UID:1776911171.0.70713900-76101@statistik.d-u-v.org
SUMMARY:Sri Chinmoy 24 Hour Run Tokyo
DESCRIPTION: Sri Chinmoy 24 Hour Run Tokyo\n
  Joeji (Mahesh) Momota\n
  
DTSTART:20051015T080000
DTEND:20051016T080000
LOCATION:Tokyo City\, JPN
URL:https://jp.srichinmoyraces.org/races/12242006/previous-results/2005
CATEGORIES:Ultramarathon
CONTACT:Joeji (Mahesh) Momota
CLASS:PUBLIC
PRIORITY:5
TRANSP:OPAQUE
END:VEVENT
END:VCALENDAR
