BEGIN:VCALENDAR
PRODID:-//http://statistik.d-u-v.org//PHP ultracalendar//EN
VERSION:2.0
METHOD:PUBLISH
BEGIN:VEVENT
DTSTAMP:20260420T081537
CREATED:20210925T042429
UID:1776672937.0.61843100-76093@statistik.d-u-v.org
SUMMARY:TDS Bourg Saint Maurice
DESCRIPTION: TDS Bourg Saint Maurice\n
  Nathalie Ecuer\n
  info[at]utmbmontblanc.com
DTSTART:20210824T150000
DTEND:00000000T235900
LOCATION:Courmayeur\, ITA
URL:https://utmbmontblanc.com
CATEGORIES:Ultramarathon
CONTACT:Nathalie Ecuer
CLASS:PUBLIC
PRIORITY:5
TRANSP:OPAQUE
END:VEVENT
END:VCALENDAR
