BEGIN:VCALENDAR
PRODID:-//http://statistik.d-u-v.org//PHP ultracalendar//EN
VERSION:2.0
METHOD:PUBLISH
BEGIN:VEVENT
DTSTAMP:20260423T034929
CREATED:20210308T144040
UID:1776916169.0.05021700-75972@statistik.d-u-v.org
SUMMARY:Sri Chinmoy Peace-Mile 6-Stunden Lauf München
DESCRIPTION: Sri Chinmoy Peace-Mile 6-Stunden Lauf München\n
  A. Gressenich\n
  muc[at]srichinmoyraces.org
DTSTART:20210911T100000
DTEND:00000000T235900
LOCATION:München\, GER
URL:http://de.srichinmoyraces.org
CATEGORIES:Ultramarathon
CONTACT:A. Gressenich
CLASS:PUBLIC
PRIORITY:5
TRANSP:OPAQUE
END:VEVENT
END:VCALENDAR
