BEGIN:VCALENDAR
PRODID:-//http://statistik.d-u-v.org//PHP ultracalendar//EN
VERSION:2.0
METHOD:PUBLISH
BEGIN:VEVENT
DTSTAMP:20260425T170311
CREATED:20200426T232703
UID:1777136591.0.48740900-75959@statistik.d-u-v.org
SUMMARY:Les 28 heures int. de Roubaix a la marche
DESCRIPTION: Les 28 heures int. de Roubaix a la marche\n
  \n
  
DTSTART:19870919T130000
DTEND:19870920T170000
LOCATION:Roubaix\, FRA
URL:
CATEGORIES:Ultramarathon
CONTACT:
CLASS:PUBLIC
PRIORITY:5
TRANSP:OPAQUE
END:VEVENT
END:VCALENDAR
