BEGIN:VCALENDAR
PRODID:-//http://statistik.d-u-v.org//PHP ultracalendar//EN
VERSION:2.0
METHOD:PUBLISH
BEGIN:VEVENT
DTSTAMP:20260425T170329
CREATED:20200426T220025
UID:1777136609.0.88618100-75958@statistik.d-u-v.org
SUMMARY:Les 28 heures int. de Roubaix a la marche
DESCRIPTION: Les 28 heures int. de Roubaix a la marche\n
  \n
  
DTSTART:19860920T130000
DTEND:19860921T170000
LOCATION:Roubaix\, FRA
URL:
CATEGORIES:Ultramarathon
CONTACT:
CLASS:PUBLIC
PRIORITY:5
TRANSP:OPAQUE
END:VEVENT
END:VCALENDAR
