BEGIN:VCALENDAR
PRODID:-//http://statistik.d-u-v.org//PHP ultracalendar//EN
VERSION:2.0
METHOD:PUBLISH
BEGIN:VEVENT
DTSTAMP:20260419T184423
CREATED:20181111T154212
UID:1776624263.0.35672100-75950@statistik.d-u-v.org
SUMMARY:24h Royan - marche
DESCRIPTION: 24h Royan - marche\n
  Daniel Fritzsch\n
  fritzsch.daniel[at]akeonet.fr
DTSTART:20181006T100000
DTEND:20181007T100000
LOCATION:Royan\, FRA
URL:http://100km.iroyan.com
CATEGORIES:Ultramarathon
CONTACT:Daniel Fritzsch
CLASS:PUBLIC
PRIORITY:5
TRANSP:OPAQUE
END:VEVENT
END:VCALENDAR
