BEGIN:VCALENDAR
PRODID:-//http://statistik.d-u-v.org//PHP ultracalendar//EN
VERSION:2.0
METHOD:PUBLISH
BEGIN:VEVENT
DTSTAMP:20260419T185906
CREATED:20171106T011711
UID:1776625146.0.12601000-75931@statistik.d-u-v.org
SUMMARY:24h Royan
DESCRIPTION: 24h Royan\n
  Daniel Fritzsch\n
  fritzsch.daniel[at]akeonet.fr
DTSTART:20171007T100000
DTEND:20171008T100000
LOCATION:Royan\, FRA
URL:http://100km.iroyan.com
CATEGORIES:Ultramarathon
CONTACT:Daniel Fritzsch
CLASS:PUBLIC
PRIORITY:5
TRANSP:OPAQUE
END:VEVENT
END:VCALENDAR
