BEGIN:VCALENDAR
PRODID:-//http://statistik.d-u-v.org//PHP ultracalendar//EN
VERSION:2.0
METHOD:PUBLISH
BEGIN:VEVENT
DTSTAMP:20260425T170434
CREATED:20131009T164757
UID:1777136674.0.13085300-75861@statistik.d-u-v.org
SUMMARY:Les 28 heures int. de Roubaix - 100km Split
DESCRIPTION: Les 28 heures int. de Roubaix - 100km Split\n
  Louis Desroches\n
  
DTSTART:20130914T130000
DTEND:20130915T170000
LOCATION:Roubaix\, FRA
URL:http://www.marchons.com
CATEGORIES:Ultramarathon
CONTACT:Louis Desroches
CLASS:PUBLIC
PRIORITY:5
TRANSP:OPAQUE
END:VEVENT
END:VCALENDAR
