BEGIN:VCALENDAR
PRODID:-//http://statistik.d-u-v.org//PHP ultracalendar//EN
VERSION:2.0
METHOD:PUBLISH
BEGIN:VEVENT
DTSTAMP:20260419T164306
CREATED:20210304T173258
UID:1776616986.0.07224100-75802@statistik.d-u-v.org
SUMMARY:+BAC6 ULTRA
DESCRIPTION: +BAC6 ULTRA\n
  Baranyai Máté\n
  bhebalaton[at]gmail.com
DTSTART:20210228T080000
DTEND:20210228T140000
LOCATION:Balatonfüred\, HUN
URL:https://fb.me/e/3OFLLZrcQ
CATEGORIES:Ultramarathon
CONTACT:Baranyai Máté
CLASS:PUBLIC
PRIORITY:5
TRANSP:OPAQUE
END:VEVENT
END:VCALENDAR
