BEGIN:VCALENDAR
PRODID:-//http://statistik.d-u-v.org//PHP ultracalendar//EN
VERSION:2.0
METHOD:PUBLISH
BEGIN:VEVENT
DTSTAMP:20260419T210143
CREATED:20100821T081138
UID:1776632503.0.67088200-7575@statistik.d-u-v.org
SUMMARY:Nashville 50 Mile Ultra Marathon
DESCRIPTION: Nashville 50 Mile Ultra Marathon\n
  \n
  
DTSTART:20081018T000000
DTEND:00000000T235900
LOCATION:Nashville, TN\, USA
URL:http://www.nashvilleultra.com/
CATEGORIES:Ultramarathon
CONTACT:
CLASS:PUBLIC
PRIORITY:5
TRANSP:OPAQUE
END:VEVENT
END:VCALENDAR
