BEGIN:VCALENDAR
PRODID:-//http://statistik.d-u-v.org//PHP ultracalendar//EN
VERSION:2.0
METHOD:PUBLISH
BEGIN:VEVENT
DTSTAMP:20260424T174724
CREATED:20210301T205553
UID:1777052844.0.19319000-75741@statistik.d-u-v.org
SUMMARY:Pennar 40-Miler
DESCRIPTION: Pennar 40-Miler\n
  \n
  
DTSTART:19990605T000000
DTEND:00000000T235900
LOCATION:Pensacola, FL\, USA
URL:
CATEGORIES:Ultramarathon
CONTACT:
CLASS:PUBLIC
PRIORITY:5
TRANSP:OPAQUE
END:VEVENT
END:VCALENDAR
