BEGIN:VCALENDAR
PRODID:-//http://statistik.d-u-v.org//PHP ultracalendar//EN
VERSION:2.0
METHOD:PUBLISH
BEGIN:VEVENT
DTSTAMP:20260419T183237
CREATED:20210228T145938
UID:1776623557.0.00133000-75721@statistik.d-u-v.org
SUMMARY:Self-Transcendence 3100 Mile Race - 6d Split
DESCRIPTION: Self-Transcendence 3100 Mile Race - 6d Split\n
  \n
  
DTSTART:19990620T000000
DTEND:19990625T235900
LOCATION:New York, NY\, USA
URL:http://3100.srichinmoyraces.org/
CATEGORIES:Ultramarathon
CONTACT:
CLASS:PUBLIC
PRIORITY:5
TRANSP:OPAQUE
END:VEVENT
END:VCALENDAR
