BEGIN:VCALENDAR
PRODID:-//http://statistik.d-u-v.org//PHP ultracalendar//EN
VERSION:2.0
METHOD:PUBLISH
BEGIN:VEVENT
DTSTAMP:20260424T190230
CREATED:20210228T055325
UID:1777057350.0.48974300-75717@statistik.d-u-v.org
SUMMARY:Dongqian Lake Ultra Marathon
DESCRIPTION: Dongqian Lake Ultra Marathon\n
  \n
  
DTSTART:20201219T080000
DTEND:00000000T235900
LOCATION:Ningbo City\, CHN
URL:http://www.dqhbd.com/uploadfiles/site50/202012/20201216142712-2429507359.pdf
CATEGORIES:Ultramarathon
CONTACT:
CLASS:PUBLIC
PRIORITY:5
TRANSP:OPAQUE
END:VEVENT
END:VCALENDAR
