BEGIN:VCALENDAR
PRODID:-//http://statistik.d-u-v.org//PHP ultracalendar//EN
VERSION:2.0
METHOD:PUBLISH
BEGIN:VEVENT
DTSTAMP:20260419T164738
CREATED:20210218T162416
UID:1776617258.0.82777700-75539@statistik.d-u-v.org
SUMMARY:Sri Chinmoy 12 Hour Festival of Running - 50km Split
DESCRIPTION: Sri Chinmoy 12 Hour Festival of Running - 50km Split\n
  \n
  
DTSTART:19971004T080000
DTEND:00000000T235900
LOCATION:Adelaide, SA\, AUS
URL:
CATEGORIES:Ultramarathon
CONTACT:
CLASS:PUBLIC
PRIORITY:5
TRANSP:OPAQUE
END:VEVENT
END:VCALENDAR
