BEGIN:VCALENDAR
PRODID:-//http://statistik.d-u-v.org//PHP ultracalendar//EN
VERSION:2.0
METHOD:PUBLISH
BEGIN:VEVENT
DTSTAMP:20260422T202706
CREATED:20210207T150037
UID:1776889626.0.37437300-75316@statistik.d-u-v.org
SUMMARY:Centenary Lakes 6 Hour Run
DESCRIPTION: Centenary Lakes 6 Hour Run\n
  \n
  
DTSTART:19960106T000000
DTEND:00000000T235900
LOCATION:Caboolture, QLD\, AUS
URL:
CATEGORIES:Ultramarathon
CONTACT:
CLASS:PUBLIC
PRIORITY:5
TRANSP:OPAQUE
END:VEVENT
END:VCALENDAR
