BEGIN:VCALENDAR
PRODID:-//http://statistik.d-u-v.org//PHP ultracalendar//EN
VERSION:2.0
METHOD:PUBLISH
BEGIN:VEVENT
DTSTAMP:20260424T150758
CREATED:20210204T100739
UID:1777043278.0.26697400-75250@statistik.d-u-v.org
SUMMARY:Toukley Rotary 12 Hour Race
DESCRIPTION: Toukley Rotary 12 Hour Race\n
  \n
  
DTSTART:19940122T210000
DTEND:19940123T090000
LOCATION:Toukley, NSW\, AUS
URL:http://www.ultralegends.com/toukley-12-hour-race-1993/
CATEGORIES:Ultramarathon
CONTACT:
CLASS:PUBLIC
PRIORITY:5
TRANSP:OPAQUE
END:VEVENT
END:VCALENDAR
