BEGIN:VCALENDAR
PRODID:-//http://statistik.d-u-v.org//PHP ultracalendar//EN
VERSION:2.0
METHOD:PUBLISH
BEGIN:VEVENT
DTSTAMP:20260423T144958
CREATED:20210202T150620
UID:1776955798.0.67198400-75168@statistik.d-u-v.org
SUMMARY:Campbelltown 24 Hour Track Race
DESCRIPTION: Campbelltown 24 Hour Track Race\n
  \n
  
DTSTART:19911012T110000
DTEND:19911013T110000
LOCATION:Campbelltown, NSW\, AUS
URL:
CATEGORIES:Ultramarathon
CONTACT:
CLASS:PUBLIC
PRIORITY:5
TRANSP:OPAQUE
END:VEVENT
END:VCALENDAR
