BEGIN:VCALENDAR
PRODID:-//http://statistik.d-u-v.org//PHP ultracalendar//EN
VERSION:2.0
METHOD:PUBLISH
BEGIN:VEVENT
DTSTAMP:20260422T221404
CREATED:20210202T133017
UID:1776896044.0.94724300-75154@statistik.d-u-v.org
SUMMARY:Caboolture Multi Day Event - 24h - 100km split
DESCRIPTION: Caboolture Multi Day Event - 24h - 100km split\n
  Ian Javes\n
  
DTSTART:19910906T150000
DTEND:19910907T150000
LOCATION:Caboolture, QLD\, AUS
URL:
CATEGORIES:Ultramarathon
CONTACT:Ian Javes
CLASS:PUBLIC
PRIORITY:5
TRANSP:OPAQUE
END:VEVENT
END:VCALENDAR
