BEGIN:VCALENDAR
PRODID:-//http://statistik.d-u-v.org//PHP ultracalendar//EN
VERSION:2.0
METHOD:PUBLISH
BEGIN:VEVENT
DTSTAMP:20260423T020040
CREATED:20210202T114049
UID:1776909640.0.21142900-75142@statistik.d-u-v.org
SUMMARY:Tamworth 24 Hour Charity Run
DESCRIPTION: Tamworth 24 Hour Charity Run\n
  \n
  
DTSTART:19910309T100000
DTEND:19910310T100000
LOCATION:Tamworth, NSW\, AUS
URL:
CATEGORIES:Ultramarathon
CONTACT:
CLASS:PUBLIC
PRIORITY:5
TRANSP:OPAQUE
END:VEVENT
END:VCALENDAR
